BEGIN:VCALENDAR
VERSION:2.0
PRODID:-//CLME+ HUB - ECPv5.3.1.1//NONSGML v1.0//EN
CALSCALE:GREGORIAN
METHOD:PUBLISH
X-WR-CALNAME:CLME+ HUB
X-ORIGINAL-URL:https://clmeplus.org
X-WR-CALDESC:Events for CLME+ HUB
BEGIN:VTIMEZONE
TZID:UTC
BEGIN:STANDARD
TZOFFSETFROM:+0000
TZOFFSETTO:+0000
TZNAME:UTC
DTSTART:20190101T000000
END:STANDARD
END:VTIMEZONE
BEGIN:VEVENT
DTSTART;VALUE=DATE:20191202
DTEND;VALUE=DATE:20191208
DTSTAMP:20260420T200347
CREATED:20191121T170650Z
LAST-MODIFIED:20191207T174608Z
UID:50986-1575244800-1575763199@clmeplus.org
SUMMARY:34th International Coral Reef Initiative (ICRI) General Meeting
DESCRIPTION:https://www.icriforum.org/ICRIGM34
URL:https://clmeplus.org/event/34th-international-coral-reef-initiative-icri-general-meeting/
LOCATION:Townsville QLD\, Australia
CATEGORIES:CLME+ PCU
END:VEVENT
END:VCALENDAR