BEGIN:VCALENDAR
VERSION:2.0
PRODID:-//CLME+ HUB - ECPv5.3.1.1//NONSGML v1.0//EN
CALSCALE:GREGORIAN
METHOD:PUBLISH
X-WR-CALNAME:CLME+ HUB
X-ORIGINAL-URL:https://clmeplus.org
X-WR-CALDESC:Events for CLME+ HUB
BEGIN:VTIMEZONE
TZID:America/Belize
BEGIN:STANDARD
TZOFFSETFROM:-0600
TZOFFSETTO:-0600
TZNAME:CST
DTSTART:20200101T000000
END:STANDARD
END:VTIMEZONE
BEGIN:VEVENT
DTSTART;TZID=America/Belize:20200421T080000
DTEND;TZID=America/Belize:20200424T170000
DTSTAMP:20260424T073018
CREATED:20200219T222146Z
LAST-MODIFIED:20200417T193621Z
UID:53254-1587456000-1587747600@clmeplus.org
SUMMARY:3rd Meeting of the Sustainable Ocean Initiative (SOI) Global Dialogue
DESCRIPTION:
URL:https://clmeplus.org/event/3rd-meeting-of-the-sustainable-ocean-initiative-soi-global-dialogue/
LOCATION:Korea
CATEGORIES:CRFM
END:VEVENT
END:VCALENDAR