BEGIN:VCALENDAR
VERSION:2.0
PRODID:-//CLME+ HUB - ECPv5.3.1.1//NONSGML v1.0//EN
CALSCALE:GREGORIAN
METHOD:PUBLISH
X-WR-CALNAME:CLME+ HUB
X-ORIGINAL-URL:https://clmeplus.org
X-WR-CALDESC:Events for CLME+ HUB
BEGIN:VTIMEZONE
TZID:UTC
BEGIN:STANDARD
TZOFFSETFROM:+0000
TZOFFSETTO:+0000
TZNAME:UTC
DTSTART:20190101T000000
END:STANDARD
END:VTIMEZONE
BEGIN:VEVENT
DTSTART;VALUE=DATE:20191126
DTEND;VALUE=DATE:20191128
DTSTAMP:20260420T020650
CREATED:20191113T162146Z
LAST-MODIFIED:20191127T170256Z
UID:50875-1574726400-1574899199@clmeplus.org
SUMMARY:3rd Meeting of the WECAFC/CRFM/IFREMER Working Group on Shrimp and Groundfish of the North Brazil-Guianas Shelf
DESCRIPTION:
URL:https://clmeplus.org/event/3rd-meeting-of-the-wecafc-crfm-ifremer-working-group-on-shrimp-and-groundfish-of-the-north-brazil-guianas-shelf/
LOCATION:Paramaribo\, Suriname
CATEGORIES:CLME+ PCU
END:VEVENT
END:VCALENDAR