BEGIN:VCALENDAR
VERSION:2.0
PRODID:-//CLME+ HUB - ECPv5.3.1.1//NONSGML v1.0//EN
CALSCALE:GREGORIAN
METHOD:PUBLISH
X-WR-CALNAME:CLME+ HUB
X-ORIGINAL-URL:https://clmeplus.org
X-WR-CALDESC:Events for CLME+ HUB
BEGIN:VTIMEZONE
TZID:UTC
BEGIN:STANDARD
TZOFFSETFROM:+0000
TZOFFSETTO:+0000
TZNAME:UTC
DTSTART:20210101T000000
END:STANDARD
END:VTIMEZONE
BEGIN:VEVENT
DTSTART;VALUE=DATE:20210611
DTEND;VALUE=DATE:20210612
DTSTAMP:20260421T214853
CREATED:20210429T103319Z
LAST-MODIFIED:20210611T132007Z
UID:96693-1623369600-1623455999@clmeplus.org
SUMMARY:Curso sobre Planificación Espacial Marina y Costera (PEMC)
DESCRIPTION:
URL:https://clmeplus.org/event/curso-sobre-planificacion-espacial-marina-y-costera-pemc-2/
CATEGORIES:CLME+ PCU
END:VEVENT
END:VCALENDAR