BEGIN:VCALENDAR
VERSION:2.0
PRODID:-//CLME+ HUB - ECPv5.3.1.1//NONSGML v1.0//EN
CALSCALE:GREGORIAN
METHOD:PUBLISH
X-WR-CALNAME:CLME+ HUB
X-ORIGINAL-URL:https://clmeplus.org
X-WR-CALDESC:Events for CLME+ HUB
BEGIN:VTIMEZONE
TZID:America/Bogota
BEGIN:STANDARD
TZOFFSETFROM:-0500
TZOFFSETTO:-0500
TZNAME:-05
DTSTART:20210101T000000
END:STANDARD
END:VTIMEZONE
BEGIN:VEVENT
DTSTART;TZID=America/Bogota:20211010T080000
DTEND;TZID=America/Bogota:20211017T180000
DTSTAMP:20260422T122504
CREATED:20191223T233911Z
LAST-MODIFIED:20210806T233529Z
UID:51766-1633852800-1634493600@clmeplus.org
SUMMARY:Earth Science Week
DESCRIPTION:Since October 1998\, the American Geosciences Institute has organized this national and international event to help the public gain a better understanding and appreciation for the Earth Sciences and to encourage stewardship of the Earth.\nThis year’s Earth Science Week will celebrate the theme “Earth and Human Activity.” This year?s event\, the 20th annual Earth Science Week celebration\, promotes awareness of what geoscience tells us about human interaction with the planet?s natural systems and processes.\nhttp://www.earthsciweek.org
URL:https://clmeplus.org/event/earth-science-week-3/
LOCATION:International
CATEGORIES:International Environmental Calendar
END:VEVENT
END:VCALENDAR