BEGIN:VCALENDAR
VERSION:2.0
PRODID:-//CLME+ HUB - ECPv5.3.1.1//NONSGML v1.0//EN
CALSCALE:GREGORIAN
METHOD:PUBLISH
X-WR-CALNAME:CLME+ HUB
X-ORIGINAL-URL:https://clmeplus.org
X-WR-CALDESC:Events for CLME+ HUB
BEGIN:VTIMEZONE
TZID:UTC
BEGIN:STANDARD
TZOFFSETFROM:+0000
TZOFFSETTO:+0000
TZNAME:UTC
DTSTART:20200101T000000
END:STANDARD
END:VTIMEZONE
BEGIN:VEVENT
DTSTART;TZID=UTC:20200923T160000
DTEND;TZID=UTC:20200923T180000
DTSTAMP:20260422T084945
CREATED:20200922T221549Z
LAST-MODIFIED:20200922T221549Z
UID:84648-1600876800-1600884000@clmeplus.org
SUMMARY:Impactos de las subvenciones de la pesca: implicaciones para América Latina y el Caribe
DESCRIPTION:OBJETIVOS \n\nConsiderar el alcance de las negociaciones comerciales en torno a la política de subvenciones a la pesca.\nExaminar los posibles mecanismos de observancia para una efectiva regulación internacional a la política de subvenciones a la pesca.\nAnalizar los efectos de la política de subvenciones a la pesca para América Latina y el Caribe\n\n23 de septiembre a las 12:00m hora de VenezuelaInscripción: https://bit.ly/2EUWEwx
URL:https://clmeplus.org/event/impactos-de-las-subvenciones-de-la-pesca-implicaciones-para-america-latina-y-el-caribe/
CATEGORIES:CLME+ PCU
END:VEVENT
END:VCALENDAR