BEGIN:VCALENDAR
VERSION:2.0
PRODID:-//CLME+ HUB - ECPv5.3.1.1//NONSGML v1.0//EN
CALSCALE:GREGORIAN
METHOD:PUBLISH
X-WR-CALNAME:CLME+ HUB
X-ORIGINAL-URL:https://clmeplus.org
X-WR-CALDESC:Events for CLME+ HUB
BEGIN:VTIMEZONE
TZID:America/Jamaica
BEGIN:STANDARD
TZOFFSETFROM:-0500
TZOFFSETTO:-0500
TZNAME:EST
DTSTART:20180101T000000
END:STANDARD
END:VTIMEZONE
BEGIN:VEVENT
DTSTART;VALUE=DATE:20180806
DTEND;VALUE=DATE:20180807
DTSTAMP:20260421T073848
CREATED:20180707T175216Z
LAST-MODIFIED:20180806T194539Z
UID:4723-1533513600-1533599999@clmeplus.org
SUMMARY:Independence Day (Jamaica)
DESCRIPTION:This event has a Google Hangouts video call.\nJoin: https://plus.google.com/hangouts/_/cep.unep.org/independence?hceid=Y2VwLnVuZXAub3JnXzNvNGJqY2FraWhzc2drcHI2Z25qNHRmb2xzQGdyb3VwLmNhbGVuZGFyLmdvb2dsZS5jb20.71lj2g26bdccme8oc0h8op6vdi&hs=121
URL:https://clmeplus.org/event/independence-day-jamaica/
CATEGORIES:UN Environment CEP
END:VEVENT
END:VCALENDAR