BEGIN:VCALENDAR
VERSION:2.0
PRODID:-//CLME+ HUB - ECPv5.3.1.1//NONSGML v1.0//EN
CALSCALE:GREGORIAN
METHOD:PUBLISH
X-WR-CALNAME:CLME+ HUB
X-ORIGINAL-URL:https://clmeplus.org
X-WR-CALDESC:Events for CLME+ HUB
BEGIN:VTIMEZONE
TZID:America/Bogota
BEGIN:STANDARD
TZOFFSETFROM:-0500
TZOFFSETTO:-0500
TZNAME:-05
DTSTART:20210101T000000
END:STANDARD
END:VTIMEZONE
BEGIN:VEVENT
DTSTART;VALUE=DATE:20210629
DTEND;VALUE=DATE:20210630
DTSTAMP:20260423T150014
CREATED:20191223T233307Z
LAST-MODIFIED:20210629T232003Z
UID:51752-1624924800-1625011199@clmeplus.org
SUMMARY:International Fishermen's Day
DESCRIPTION:THE FOOD and Agriculture Organisation (FAO) of the United Nations declares June 29 each year as International Fishermen’s Day. Many other Caribbean countries and territories observe it and give due recognition to their fishers. In some Caribbean countries\, the week surrounding the day is observed as Fisherman’s Week\, and exhibitions and displays\, sports and games take place which ‘big up’ the fishing community.
URL:https://clmeplus.org/event/international-fishermens-day-4/
LOCATION:International
CATEGORIES:International Environmental Calendar
END:VEVENT
END:VCALENDAR