BEGIN:VCALENDAR
VERSION:2.0
PRODID:-//CLME+ HUB - ECPv5.3.1.1//NONSGML v1.0//EN
CALSCALE:GREGORIAN
METHOD:PUBLISH
X-WR-CALNAME:CLME+ HUB
X-ORIGINAL-URL:https://clmeplus.org
X-WR-CALDESC:Events for CLME+ HUB
BEGIN:VTIMEZONE
TZID:America/Jamaica
BEGIN:STANDARD
TZOFFSETFROM:-0500
TZOFFSETTO:-0500
TZNAME:EST
DTSTART:20180101T000000
END:STANDARD
END:VTIMEZONE
BEGIN:VEVENT
DTSTART;VALUE=DATE:20180928
DTEND;VALUE=DATE:20180929
DTSTAMP:20260419T235107
CREATED:20180829T203741Z
LAST-MODIFIED:20180901T203935Z
UID:5355-1538092800-1538179199@clmeplus.org
SUMMARY:International Right to Know Day
DESCRIPTION:This event has a Google Hangouts video call.\nJoin: https://plus.google.com/hangouts/_/cep.unep.org/international?hceid=Y2VwLnVuZXAub3JnXzNvNGJqY2FraWhzc2drcHI2Z25qNHRmb2xzQGdyb3VwLmNhbGVuZGFyLmdvb2dsZS5jb20.6bejj352dad51cfn5iuvpn1olc&hs=121
URL:https://clmeplus.org/event/international-right-to-know-day/
CATEGORIES:UN Environment CEP
END:VEVENT
END:VCALENDAR