BEGIN:VCALENDAR
VERSION:2.0
PRODID:-//CLME+ HUB - ECPv5.3.1.1//NONSGML v1.0//EN
CALSCALE:GREGORIAN
METHOD:PUBLISH
X-WR-CALNAME:CLME+ HUB
X-ORIGINAL-URL:https://clmeplus.org
X-WR-CALDESC:Events for CLME+ HUB
BEGIN:VTIMEZONE
TZID:America/Bogota
BEGIN:STANDARD
TZOFFSETFROM:-0500
TZOFFSETTO:-0500
TZNAME:-05
DTSTART:20180101T000000
END:STANDARD
END:VTIMEZONE
BEGIN:VEVENT
DTSTART;VALUE=DATE:20180802
DTEND;VALUE=DATE:20180804
DTSTAMP:20260422T140436
CREATED:20180711T011545Z
LAST-MODIFIED:20180802T013222Z
UID:4768-1533168000-1533340799@clmeplus.org
SUMMARY:Reunión Consejo de Ministros de la CCAD - Belize
DESCRIPTION:
URL:https://clmeplus.org/event/reunion-consejo-de-ministros-de-la-ccad-belize/
CATEGORIES:CLME+ PCU
END:VEVENT
END:VCALENDAR