BEGIN:VCALENDAR
VERSION:2.0
PRODID:-//CLME+ HUB - ECPv5.3.1.1//NONSGML v1.0//EN
CALSCALE:GREGORIAN
METHOD:PUBLISH
X-WR-CALNAME:CLME+ HUB
X-ORIGINAL-URL:https://clmeplus.org
X-WR-CALDESC:Events for CLME+ HUB
BEGIN:VTIMEZONE
TZID:UTC
BEGIN:STANDARD
TZOFFSETFROM:+0000
TZOFFSETTO:+0000
TZNAME:UTC
DTSTART:20190101T000000
END:STANDARD
END:VTIMEZONE
BEGIN:VEVENT
DTSTART;VALUE=DATE:20190924
DTEND;VALUE=DATE:20190927
DTSTAMP:20260420T153044
CREATED:20190924T140015Z
LAST-MODIFIED:20190926T140018Z
UID:49782-1569283200-1569542399@clmeplus.org
SUMMARY:South-East Pacific Workshop\, for the UN Decade.
DESCRIPTION:Organized by: CPPS-IOC \nObjective: To deliver scientific knowledge\, foster technological innovation\, and build capacity to achieve the 2030 Agenda and reverse the decline of ocean health for the region South-East Pacific.
URL:https://clmeplus.org/event/south-east-pacific-workshop-for-the-un-decade/
LOCATION:Guayaquil\, Ecuador
CATEGORIES:CLME+ PCU
END:VEVENT
END:VCALENDAR