BEGIN:VCALENDAR
VERSION:2.0
PRODID:-//CLME+ HUB - ECPv5.3.1.1//NONSGML v1.0//EN
CALSCALE:GREGORIAN
METHOD:PUBLISH
X-WR-CALNAME:CLME+ HUB
X-ORIGINAL-URL:https://clmeplus.org
X-WR-CALDESC:Events for CLME+ HUB
BEGIN:VTIMEZONE
TZID:UTC
BEGIN:STANDARD
TZOFFSETFROM:+0000
TZOFFSETTO:+0000
TZNAME:UTC
DTSTART:20190101T000000
END:STANDARD
END:VTIMEZONE
BEGIN:VEVENT
DTSTART;VALUE=DATE:20191202
DTEND;VALUE=DATE:20191214
DTSTAMP:20260419T180935
CREATED:20191102T161119Z
LAST-MODIFIED:20191213T183220Z
UID:50652-1575244800-1576281599@clmeplus.org
SUMMARY:UNFCCC COP25 ("Blue COP")
DESCRIPTION:https://unfccc.int/Santiago
URL:https://clmeplus.org/event/unfccc-cop25-blue-cop/
LOCATION:Madrid\, Spain
CATEGORIES:CLME+ PCU
END:VEVENT
END:VCALENDAR